BEGIN:VCALENDAR
VERSION:2.0
PRODID:-//ChamberMaster//Event Calendar 2.0//EN
METHOD:PUBLISH
X-PUBLISHED-TTL:P3D
REFRESH-INTERVAL:P3D
CALSCALE:GREGORIAN
BEGIN:VEVENT
DTSTART:20260129T163000Z
DTEND:20260129T183000Z
X-MICROSOFT-CDO-ALLDAYEVENT:FALSE
SUMMARY:Women in Business 1/29/26 - Hosted by the Anchor Bay and Macomb County Chambers
DESCRIPTION:Women in Business Hosted by the Anchor Bay and Macomb County Chambers
X-ALT-DESC;FMTTYPE=text/html:Women in Business Hosted by the Anchor Bay and Macomb County Chambers
LOCATION:Blind Owl Restaurant 36310 Main Street\, Unit F New Baltimore\, MI 48047
UID:e.2466.3664
SEQUENCE:3
DTSTAMP:20260421T193001Z
URL:https://mccbiz.macombcountychamber.com/events/details/women-in-business-7-24-25-hosted-by-the-anchor-bay-and-macomb-county-chambers-3664
END:VEVENT

END:VCALENDAR
