BEGIN:VCALENDAR
VERSION:2.0
PRODID:-//ChamberMaster//Event Calendar 2.0//EN
METHOD:PUBLISH
X-PUBLISHED-TTL:P3D
REFRESH-INTERVAL:P3D
CALSCALE:GREGORIAN
BEGIN:VEVENT
DTSTART:20250531T130000Z
DTEND:20250531T180000Z
X-MICROSOFT-CDO-ALLDAYEVENT:FALSE
SUMMARY:Shelby Farmers Market
DESCRIPTION:The Shelby Farmers Market returns to the Packard Proving Grounds from May 17 to October 18\, 2025\, running Saturdays from 9 AM to 2 PM. Shop fresh produce\, baked goods\, handcrafted items\, and so much more while supporting local farmers\, artisans\, and small businesses. This year\, the Humane Society of Macomb will attend on the third Saturday of each month\, bringing adoptable animals in search of loving homes. (weather permitting) As a high-save shelter\, their mission is to find homes for 100% of adoptable animals in their care. Join us each week at 49965 Van Dyke Ave\, Shelby Township\, MI to shop local\, connect with the community\, and make a difference. For more details or vendor inquiries\, visit packardprovinggrounds.org/farmersmarket or contact Mary Anne Demo\, Executive Director of the Packard Proving Grounds\, at 586-739-4800.
X-ALT-DESC;FMTTYPE=text/html:The Shelby Farmers Market returns to the Packard Proving Grounds from May 17 to October 18\, 2025\, running Saturdays from 9 AM to 2 PM. Shop fresh produce\, baked goods\, handcrafted items\, and so much more while supporting local farmers\, artisans\, and small businesses. This year\, the Humane Society of Macomb will attend on the third Saturday of each month\, bringing adoptable animals in search of loving homes. (weather permitting) As a high-save shelter\, their mission is to find homes for 100% of adoptable animals in their care. Join us each week at 49965 Van Dyke Ave\, Shelby Township\, MI to shop local\, connect with the community\, and make a difference. For more details or vendor inquiries\, visit packardprovinggrounds.org/farmersmarket or contact Mary Anne Demo\, Executive Director of the Packard Proving Grounds\, at 586-739-4800.
LOCATION:Packard Proving Grounds Historic Site 49965 Van Dyke Ave. Shelby Township\, MI 48317
UID:e.2466.3448
SEQUENCE:3
DTSTAMP:20260424T102044Z
URL:https://mccbiz.macombcountychamber.com/events/details/shelby-farmers-market-05-31-2025-3448
END:VEVENT

END:VCALENDAR
