BEGIN:VCALENDAR
VERSION:2.0
PRODID:-//ChamberMaster//Event Calendar 2.0//EN
METHOD:PUBLISH
X-PUBLISHED-TTL:P3D
REFRESH-INTERVAL:P3D
CALSCALE:GREGORIAN
BEGIN:VEVENT
DTSTART:20240518T130000Z
DTEND:20240518T180000Z
X-MICROSOFT-CDO-ALLDAYEVENT:FALSE
SUMMARY:Shelby Farmers Market
DESCRIPTION:Join us at the Shelby Farmers Market\, located at the Packard Proving Grounds Historic Site\, every Saturday from May 18 to October 19\, 2024\, rain or shine. From 9am to 2pm\, immerse yourself in a vibrant community atmosphere while stocking up on fresh fruits\, veggies\, eggs\, honey\, maple syrup\, bread\, and baked goods directly from local farmers and vendors. With vendor setup starting at 7:30am\, this market offers a diverse array of locally-sourced products\, supporting local businesses\, artists and craftsmen. Throughout the season\, enjoy special events and activities for the whole family\, making each visit a memorable experience. For more information and vendor registration\, visit www.shelbyfarmersmarket.org Contact Liz Brazeal at 586-739-4800 or liz@packardprovinggrounds.org.
X-ALT-DESC;FMTTYPE=text/html:Join us at the Shelby Farmers Market\, located at the Packard Proving Grounds Historic Site\, every Saturday from May 18 to October 19\, 2024\, rain or shine. From 9am to 2pm\, immerse yourself in a vibrant community atmosphere while stocking up on fresh fruits\, veggies\, eggs\, honey\, maple syrup\, bread\, and baked goods directly from local farmers and vendors. With vendor setup starting at 7:30am\, this market offers a diverse array of locally-sourced products\, supporting local businesses\, artists and craftsmen. Throughout the season\, enjoy special events and activities for the whole family\, making each visit a memorable experience. For more information and vendor registration\, visit www.shelbyfarmersmarket.org Contact Liz Brazeal at 586-739-4800 or liz@packardprovinggrounds.org.
LOCATION:Packard Proving Grounds Historic Site 49965 Van Dyke Ave. Shelby Twp\, MI 48317
UID:e.2466.3138
SEQUENCE:3
DTSTAMP:20260424T193654Z
URL:https://mccbiz.macombcountychamber.com/events/details/shelby-farmers-market-05-18-2024-3138
END:VEVENT

END:VCALENDAR
