BEGIN:VCALENDAR
VERSION:2.0
PRODID:-//ChamberMaster//Event Calendar 2.0//EN
METHOD:PUBLISH
X-PUBLISHED-TTL:P3D
REFRESH-INTERVAL:P3D
CALSCALE:GREGORIAN
BEGIN:VEVENT
DTSTART:20260211T230000Z
DTEND:20260212T010000Z
X-MICROSOFT-CDO-ALLDAYEVENT:FALSE
SUMMARY:Sexy Wines Guided Tasting Experience
DESCRIPTION:Sexy wines don't whisper  they linger.\n\nJoin us for Sexy Wines\, a flirty\, feel-good guided tasting experience designed for all (wine) lovers. \n\nThis sensory-driven class features wines with lush textures\, expressive aromatics\, and undeniable charm. Perfect for a pre-Valentine's night out or an indulgent evening of great wine.\n\nThe Pour Lineup\n\n   2024 Verterra Sparkling Ros \n\n   2023 Brys Estate Naked Chardonnay\n\n   2021 Ch teau A ronautique Aviatrix Passion\n\n   Mackinaw Trail Winery Kinky Pink Ros \n\n   2022 Domaine Berrien Red Satin\n\n   2021 Bonobo Pinot Noir\n\nWednesday\, February 11\n\n6 8 PM\n\nMichigan By The Bottle   Shelby Township\n\n$35 per person\n\nSip into something comfortable.\n\nTickets required | Limited seating
X-ALT-DESC;FMTTYPE=text/html:<p>Sexy wines don&rsquo\;t whisper&hellip\; they linger.</p>\n\n<p>Join us for <strong>Sexy Wines</strong>\, a flirty\, feel-good guided tasting experience designed for all (wine) lovers.&nbsp\;</p>\n\n<p>This sensory-driven class features wines with lush textures\, expressive aromatics\, and undeniable charm. Perfect for a pre-Valentine&rsquo\;s night out or an indulgent evening of great wine.</p>\n\n<p><strong>The Pour Lineup</strong></p>\n\n<p>&nbsp\;&bull\; 2024 Verterra Sparkling Ros&eacute\;<br />\n&nbsp\;&bull\; 2023 Brys Estate Naked Chardonnay<br />\n&nbsp\;&bull\; 2021 Ch&acirc\;teau A&eacute\;ronautique Aviatrix Passion<br />\n&nbsp\;&bull\; Mackinaw Trail Winery Kinky Pink Ros&eacute\;<br />\n&nbsp\;&bull\; 2022 Domaine Berrien Red Satin<br />\n&nbsp\;&bull\; 2021 Bonobo Pinot Noir</p>\n\n<p><strong>Wednesday\, February 11<br />\n6&ndash\;8 PM<br />\nMichigan By The Bottle &ndash\; Shelby Township<br />\n$35 per person</strong></p>\n\n<p>Sip into something comfortable.</p>\n\n<p>Tickets required | Limited seating</p>\n
LOCATION:Michigan By The Bottle Shelby Township 45645 Hayes Rd\, Shelby Township\, MI 48315
UID:e.2466.3648
SEQUENCE:3
DTSTAMP:20260421T173215Z
URL:https://mccbiz.macombcountychamber.com/events/details/sexy-wines-guided-tasting-experience-3648
END:VEVENT

END:VCALENDAR
