BEGIN:VCALENDAR
VERSION:2.0
PRODID:-//ChamberMaster//Event Calendar 2.0//EN
METHOD:PUBLISH
X-PUBLISHED-TTL:P3D
REFRESH-INTERVAL:P3D
CALSCALE:GREGORIAN
BEGIN:VEVENT
DTSTART:20221014T170000Z
DTEND:20221014T180000Z
X-MICROSOFT-CDO-ALLDAYEVENT:FALSE
SUMMARY:Ribbon Cutting for TaDa Child Care
DESCRIPTION:Ribbon Cutting for\n\nTaDa Child Care
X-ALT-DESC;FMTTYPE=text/html:Ribbon Cutting for<br />\nTaDa Child Care
LOCATION:23637 Carlington Street Clinton Township\, MI 48036
UID:e.2466.2734
SEQUENCE:3
DTSTAMP:20260421T084724Z
URL:https://mccbiz.macombcountychamber.com/events/details/ribbon-cutting-for-tada-child-care-2734
END:VEVENT

END:VCALENDAR
