BEGIN:VCALENDAR
VERSION:2.0
PRODID:-//ChamberMaster//Event Calendar 2.0//EN
METHOD:PUBLISH
X-PUBLISHED-TTL:P3D
REFRESH-INTERVAL:P3D
CALSCALE:GREGORIAN
BEGIN:VEVENT
DTSTART:20260613T220000Z
DTEND:20260614T020000Z
X-MICROSOFT-CDO-ALLDAYEVENT:FALSE
SUMMARY:Packards & Pours
DESCRIPTION:Spend a summer evening at the Packard Proving Grounds with craft drinks\, classic cars\, and a laid-back atmosphere. Walk the historic grounds\, sample beer\, wine\, and cocktails\, and take in a rotating display of collector vehicles throughout the night. General admission includes 10 tasting tickets and access to the historic site\, with food trucks on-site if you're looking to grab a bite between stops. Have a classic or collector car? Bring it out and be part of the show vehicle registration includes display space along the boulevard and event admission. Tickets: $50 Car show registration: $25 per vehicle Learn more and reserve your spot: PackardProvingGrounds.org/Packards-Pours We'll be open\, rain or shine
X-ALT-DESC;FMTTYPE=text/html:Spend a summer evening at the Packard Proving Grounds with craft drinks\, classic cars\, and a laid-back atmosphere. Walk the historic grounds\, sample beer\, wine\, and cocktails\, and take in a rotating display of collector vehicles throughout the night. General admission includes 10 tasting tickets and access to the historic site\, with food trucks on-site if you&rsquo\;re looking to grab a bite between stops. Have a classic or collector car? Bring it out and be part of the show&mdash\;vehicle registration includes display space along the boulevard and event admission. Tickets: $50 Car show registration: $25 per vehicle Learn more and reserve your spot: PackardProvingGrounds.org/Packards-Pours We&#39\;ll be open\, rain or shine
LOCATION:Packard Proving Grounds Historic Site 49965 Van Dyke Ave Shelby Township\, MI 48317
UID:e.2466.3746
SEQUENCE:3
DTSTAMP:20260421T190507Z
URL:https://mccbiz.macombcountychamber.com/events/details/packards-pours-3746
END:VEVENT

END:VCALENDAR
