BEGIN:VCALENDAR
VERSION:2.0
PRODID:-//ChamberMaster//Event Calendar 2.0//EN
METHOD:PUBLISH
X-PUBLISHED-TTL:P3D
REFRESH-INTERVAL:P3D
CALSCALE:GREGORIAN
BEGIN:VEVENT
DTSTART:20260327T193000Z
DTEND:20260327T200000Z
X-MICROSOFT-CDO-ALLDAYEVENT:FALSE
SUMMARY:Nama's Comforting Childcare and Early Childhood Education
DESCRIPTION:Grand Opening Ribbon Cutting for\n\nNama's Comforting Childcare and Early Childhood Education
X-ALT-DESC;FMTTYPE=text/html:Grand Opening Ribbon Cutting for<br />\nNama&#39\;s Comforting Childcare and Early Childhood Education
LOCATION:38554 S. Groesbeck Hwy. Clinton Township\, MI 48038
UID:e.2466.3713
SEQUENCE:3
DTSTAMP:20260425T103647Z
URL:https://mccbiz.macombcountychamber.com/events/details/nama-s-comforting-childcare-and-early-childhood-education-3713
END:VEVENT

END:VCALENDAR
