BEGIN:VCALENDAR
VERSION:2.0
PRODID:-//ChamberMaster//Event Calendar 2.0//EN
METHOD:PUBLISH
X-PUBLISHED-TTL:P3D
REFRESH-INTERVAL:P3D
CALSCALE:GREGORIAN
BEGIN:VEVENT
DTSTART:20240525T110000Z
DTEND:20240525T170000Z
X-MICROSOFT-CDO-ALLDAYEVENT:FALSE
SUMMARY:Mount Clemens Farmers Market
DESCRIPTION:Mount Clemens Farmers Market
X-ALT-DESC;FMTTYPE=text/html:Mount Clemens Farmers Market
LOCATION:141 North River Mount Clemens\, MI 48043
UID:e.2466.3169
SEQUENCE:3
DTSTAMP:20260424T193659Z
URL:https://mccbiz.macombcountychamber.com/events/details/mount-clemens-farmers-market-05-25-2024-3169
END:VEVENT

END:VCALENDAR
