BEGIN:VCALENDAR
VERSION:2.0
PRODID:-//ChamberMaster//Event Calendar 2.0//EN
METHOD:PUBLISH
X-PUBLISHED-TTL:P3D
REFRESH-INTERVAL:P3D
CALSCALE:GREGORIAN
BEGIN:VEVENT
DTSTART:20260713T130000Z
DTEND:20260713T160000Z
X-MICROSOFT-CDO-ALLDAYEVENT:FALSE
SUMMARY:Humane Society of Macomb's Kids Summer Camp
DESCRIPTION:July 13-16 Kids Ages 5-7 years old\n\nJuly 20-23 Kids Ages 8-10 years old\n\nJuly 27-30 Kids Ages 11-13 years old\n\n\n\nUp close encounters with shelter animals and animal focused groups (opossums\, reptiles\, and more) from around Macomb County\, as well as pet focused crafts every day.\n\n \n\nFollow our website and social media for registration dates.\n\nwww.humanesocieytofmacomb.org\n\n@humanesocietyofmacomb
X-ALT-DESC;FMTTYPE=text/html:July 13-16 Kids Ages 5-7 years old<br />\nJuly 20-23 Kids Ages 8-10 years old<br />\nJuly 27-30 Kids Ages 11-13 years old<br />\n<br />\nUp close encounters with shelter animals and animal focused groups (opossums\, reptiles\, and more) from around Macomb County\, as well as pet focused crafts every day.<br />\n&nbsp\;<br />\nFollow our website and social media for registration dates.<br />\n<a href="http://www.humanesocieytofmacomb.org">www.humanesocieytofmacomb.org</a><br />\n@humanesocietyofmacomb
LOCATION:Humane Society of Macomb 11350 22 Mile Road Utica\, MI 48314
UID:e.2466.3736
SEQUENCE:3
DTSTAMP:20260421T171551Z
URL:https://mccbiz.macombcountychamber.com/events/details/humane-society-of-macomb-s-kids-summer-camp-3736
END:VEVENT

END:VCALENDAR
