BEGIN:VCALENDAR
VERSION:2.0
PRODID:-//ChamberMaster//Event Calendar 2.0//EN
METHOD:PUBLISH
X-PUBLISHED-TTL:P3D
REFRESH-INTERVAL:P3D
CALSCALE:GREGORIAN
BEGIN:VEVENT
DTSTART:20260913T180000Z
DTEND:20260914T000000Z
X-MICROSOFT-CDO-ALLDAYEVENT:FALSE
SUMMARY:Humane Society of Macomb's Home In One Golf Scramble
DESCRIPTION:Join us "fore" the second annual Home in One golf event\, brought to you by Humane Society of Macomb. Register as a team or an individual and come have some fun while supporting our mission to "Be The Voice For The Voiceless" . All proceeds received during this event will help save the lives of our animals who cannot speak for themselves. We continuously work to prevent the cruelty of animals all while placing adoptable pets into good\, permanent homes with responsible owners. We make every effort to return stray animals turned into the shelter to their original owners\, while educating and promoting spay and neutering\, to prevent overpopulation through education. We can't wait to see you there!
X-ALT-DESC;FMTTYPE=text/html:<span style="background-color:rgb(255\, 255\, 255)\; color:rgb(35\, 35\, 35)\; font-family:roboto\,sans-serif\; font-size:20px">Join us&nbsp\;</span><em>&quot\;fore&quot\;</em><span style="background-color:rgb(255\, 255\, 255)\; color:rgb(35\, 35\, 35)\; font-family:roboto\,sans-serif\; font-size:20px">&nbsp\;the second annual&nbsp\;</span><strong><u>Home in One</u></strong><span style="background-color:rgb(255\, 255\, 255)\; color:rgb(35\, 35\, 35)\; font-family:roboto\,sans-serif\; font-size:20px">&nbsp\;golf event\, brought to you by Humane Society of Macomb. Register as a team or an individual and come have some fun while supporting our mission to &ldquo\;Be The Voice For The Voiceless&rdquo\; . All proceeds received during this event will help save the lives of our animals who cannot speak for themselves. We continuously work to prevent the cruelty of animals all while placing adoptable pets into good\, permanent homes with responsible owners. We make every effort to return stray animals turned into the shelter to their original owners\, while educating and promoting spay and neutering\, to prevent overpopulation through education. We can&#39\;t wait to see you there!</span>
LOCATION:Cracklewood Golf Course 18215 24 Mile Road Macomb\, MI 48042
UID:e.2466.3733
SEQUENCE:3
DTSTAMP:20260421T222530Z
URL:https://mccbiz.macombcountychamber.com/events/details/humane-society-of-macomb-s-home-in-one-golf-scramble-3733
END:VEVENT

END:VCALENDAR
