BEGIN:VCALENDAR
VERSION:2.0
PRODID:-//ChamberMaster//Event Calendar 2.0//EN
METHOD:PUBLISH
X-PUBLISHED-TTL:P3D
REFRESH-INTERVAL:P3D
CALSCALE:GREGORIAN
BEGIN:VEVENT
DTSTART:20250119T180000Z
DTEND:20250119T190000Z
X-MICROSOFT-CDO-ALLDAYEVENT:FALSE
SUMMARY:Historical Speaker Series: The Lost Villages of Macomb County
DESCRIPTION:Discover the hidden history of Macomb County's lost villages\, such as Belvidere\, Fredrick\, Red Run\, and Disco. Join Debbie Remer\, a life-long resident of Macomb County with deep family roots dating back to the 1870s. Debbie\, a retired science teacher and passionate historian\, will guide you through the development of the county and the stories of these ghost towns. Debbie has been a dedicated volunteer at the Rochester Hills Museum at Van Hoosen Farm since 1988\, and she is a current Trustee on the Board of Directors of the Packard Motor Car Foundation. Don't miss this fascinating exploration of local history!
X-ALT-DESC;FMTTYPE=text/html:Discover the hidden history of Macomb County&#39\;s lost villages\, such as Belvidere\, Fredrick\, Red Run\, and Disco. Join Debbie Remer\, a life-long resident of Macomb County with deep family roots dating back to the 1870s. Debbie\, a retired science teacher and passionate historian\, will guide you through the development of the county and the stories of these ghost towns. Debbie has been a dedicated volunteer at the Rochester Hills Museum at Van Hoosen Farm since 1988\, and she is a current Trustee on the Board of Directors of the Packard Motor Car Foundation. Don&#39\;t miss this fascinating exploration of local history!
LOCATION:Packard Proving Grounds Historic Site 49965 Van Dyke Ave. Shelby Township\, MI 48317
UID:e.2466.3356
SEQUENCE:3
DTSTAMP:20260422T201557Z
URL:https://mccbiz.macombcountychamber.com/events/details/historical-speaker-series-the-lost-villages-of-macomb-county-3356
END:VEVENT

END:VCALENDAR
