BEGIN:VCALENDAR
VERSION:2.0
PRODID:-//ChamberMaster//Event Calendar 2.0//EN
METHOD:PUBLISH
X-PUBLISHED-TTL:P3D
REFRESH-INTERVAL:P3D
CALSCALE:GREGORIAN
BEGIN:VEVENT
DTSTART:20260219T173000Z
DTEND:20260219T180000Z
X-MICROSOFT-CDO-ALLDAYEVENT:FALSE
SUMMARY:Grand Opening Ribbon Cutting for Purpose Driven Care Inc.
DESCRIPTION:Grand Opening Ribbon Cutting for\n\nPurpose Driven Care Inc.
X-ALT-DESC;FMTTYPE=text/html:Grand Opening Ribbon Cutting for<br />\nPurpose Driven Care Inc.
LOCATION:27333 Gratiot Ave.\, Roseville\, MI 48066
UID:e.2466.3597
SEQUENCE:3
DTSTAMP:20260421T174540Z
URL:https://mccbiz.macombcountychamber.com/events/details/grand-opening-ribbon-cutting-for-purpose-driven-care-inc-3597
END:VEVENT

END:VCALENDAR
