BEGIN:VCALENDAR
VERSION:2.0
PRODID:-//ChamberMaster//Event Calendar 2.0//EN
METHOD:PUBLISH
X-PUBLISHED-TTL:P3D
REFRESH-INTERVAL:P3D
CALSCALE:GREGORIAN
BEGIN:VEVENT
DTSTART:20220217T160000Z
DTEND:20220217T170000Z
X-MICROSOFT-CDO-ALLDAYEVENT:FALSE
SUMMARY:Grand Opening Ribbon Cutting
DESCRIPTION:Grand Opening Ribbon Cutting for\n\nBravado Event Venue
X-ALT-DESC;FMTTYPE=text/html:Grand Opening Ribbon Cutting for<br />\nBravado Event Venue&nbsp\;&nbsp\;&nbsp\;&nbsp\;
LOCATION:36217 S. Gratiot Ave. Clinton Township\, MI 48035
UID:e.2466.2669
SEQUENCE:3
DTSTAMP:20260421T084554Z
URL:https://mccbiz.macombcountychamber.com/events/details/grand-opening-ribbon-cutting-2669
END:VEVENT

END:VCALENDAR
