BEGIN:VCALENDAR
VERSION:2.0
PRODID:-//ChamberMaster//Event Calendar 2.0//EN
METHOD:PUBLISH
X-PUBLISHED-TTL:P3D
REFRESH-INTERVAL:P3D
CALSCALE:GREGORIAN
BEGIN:VEVENT
DTSTART:20260604T150000Z
DTEND:20260604T200000Z
X-MICROSOFT-CDO-ALLDAYEVENT:FALSE
SUMMARY:3rd Annual Packard Salon Special Showing
DESCRIPTION:The Packard Proving Grounds will host the 3rd Annual Salon Special Showing\, a three-day gathering that will celebrate the elegance and engineering of Packard's Tenth and Eleventh Series automobiles. Collectors and enthusiasts will bring these remarkable prewar Packards back to the historic grounds for a program that includes a Reliability Run\, historical lecture\, and social events. While June 2nd and 3rd are private events for Packard owners\, the public is invited to attend the Salon Display on Thursday\, June 4 from 11 a.m. to 4 pm. Guests can view these rare historic Packards up close on the grounds where they were once tested. Admission for the Thursday display is free. Packard owners interested in participating are encouraged to register at PackardProvingGrounds.org/2026salon/ or call 586-739-4800 for details.
X-ALT-DESC;FMTTYPE=text/html:The Packard Proving Grounds will host the 3rd Annual Salon Special Showing\, a three-day gathering that will celebrate the elegance and engineering of Packard&rsquo\;s Tenth and Eleventh Series automobiles. Collectors and enthusiasts will bring these remarkable prewar Packards back to the historic grounds for a program that includes a Reliability Run\, historical lecture\, and social events. While June 2nd and 3rd are private events for Packard owners\, the public is invited to attend the Salon Display on Thursday\, June 4 from 11 a.m. to 4 pm. Guests can view these rare historic Packards up close on the grounds where they were once tested. Admission for the Thursday display is free. Packard owners interested in participating are encouraged to register at PackardProvingGrounds.org/2026salon/ or call 586-739-4800 for details.
LOCATION:Packard Proving Grounds Historic Site 49965 Van Dyke Ave. Shelby Township\, MI 48317
UID:e.2466.3747
SEQUENCE:3
DTSTAMP:20260421T185116Z
URL:https://mccbiz.macombcountychamber.com/events/details/3rd-annual-packard-salon-special-showing-3747
END:VEVENT

END:VCALENDAR
