BEGIN:VCALENDAR
VERSION:2.0
PRODID:-//ChamberMaster//Event Calendar 2.0//EN
METHOD:PUBLISH
X-PUBLISHED-TTL:P3D
REFRESH-INTERVAL:P3D
CALSCALE:GREGORIAN
BEGIN:VEVENT
DTSTART:20250508T200000Z
DTEND:20250508T210000Z
X-MICROSOFT-CDO-ALLDAYEVENT:FALSE
SUMMARY:38th Anniversary Ribbon Cutting for Anton\, Sowerby & Associates
DESCRIPTION:38th Anniversary Ribbon Cutting for\n\nAnton\, Sowerby & Associates
X-ALT-DESC;FMTTYPE=text/html:38th Anniversary Ribbon Cutting for<br />\nAnton\, Sowerby &amp\; Associates
LOCATION:79 Macomb Place Mount Clemens\, MI 48043
UID:e.2466.3439
SEQUENCE:3
DTSTAMP:20260424T102043Z
URL:https://mccbiz.macombcountychamber.com/events/details/38th-anniversary-ribbon-cutting-for-anton-sowerby-associates-3439
END:VEVENT

END:VCALENDAR
